BEGIN:VCALENDAR
CALSCALE:GREGORIAN
PRODID:-//Condeon, vioma GmbH//iCal 2.0//EN
VERSION:2.0
BEGIN:VEVENT
UID:77945433469e71f00c7d113.02531723
DTSTAMP:20260421T065352Z
DTSTART:20261031T230000Z
DTEND:20261107T230000Z
SUMMARY:Eva Lind Musikakademie
DESCRIPTION:DAS KRONTHALER wird erneut zum Schauplatz für die talentiert
 e Eva Lind und ihre Musikakademie. Zusammen mit renommierten Dozenten au
 s aller Welt gibt sie ihr Wissen an Musik studenten weiter. Auch die Gä
 ste haben während der Meisterklasse die Möglichkeit\, die Darbietungen
  zu genießen. Täglich können Sie das Erlernte bei Mini-Konzerten an 
 der BAR ZeitLOS 989 oder beim Abschlusskonzert am letzten Abend der 
 Kurswoche in der BAR HimmelNAH 999 erleben.
LOCATION:DAS KRONTHALER
URL:https://www.daskronthaler.com/de/service/eventkalender/detail.date.27
 1-55285.2026-11-01.html
END:VEVENT
END:VCALENDAR
