BEGIN:VCALENDAR
CALSCALE:GREGORIAN
PRODID:-//Condeon, vioma GmbH//iCal 2.0//EN
VERSION:2.0
BEGIN:VEVENT
UID:110735162469e71e9ccf3644.48771476
DTSTAMP:20260421T065212Z
DTSTART:20260912T220000Z
DTEND:20260919T220000Z
SUMMARY:Eva Lind Musikakademie
DESCRIPTION:DAS KRONTHALER wird erneut zum Schauplatz für die talentiert
 e Eva Lind und ihre Musikakademie. Zusammen mit renommierten Dozenten au
 s aller Welt gibt sie ihr Wissen an Musik studenten weiter. Auch die Gä
 ste haben während der Meisterklasse die Möglichkeit\, die Darbietungen
  zu genießen. Täglich können Sie das Erlernte bei Mini-Konzerten an 
 der BAR ZeitLOS 989 oder beim Abschlusskonzert am letzten Abend der 
 Kurswoche in der BAR HimmelNAH 999 erleben.
LOCATION:DAS KRONTHALER
URL:https://www.daskronthaler.com/de/service/eventkalender/detail.date.27
 1-55283.2026-09-13.html
END:VEVENT
END:VCALENDAR
