BEGIN:VCALENDAR
CALSCALE:GREGORIAN
PRODID:-//Condeon, vioma GmbH//iCal 2.0//EN
VERSION:2.0
BEGIN:VEVENT
UID:146863565669e71dfd59bd63.25633501
DTSTAMP:20260421T064933Z
DTSTART:20260828T220000Z
DTEND:20260829T215959Z
SUMMARY:Karwendelmarsch
DESCRIPTION:Der legendäre Karwendelmarsch ist seit Jahren ein Fixtermin 
 im sportlichen Eventkalender\, jährlich am letzten Samstag im August. D
 ie Strecke führt durch das atemberaubende Karwendelgebirge von Scharnit
 z nach Pertisau. Auf Strecken von 35 oder 52 Kilometern erwartet die Tei
 lnehmer beeindrukende Bergpanoramen\, sportliche Harausforderungen oder 
 eine besondere Verbindung von Natur und Tradition. \n\n\n\nAnmeldung un
 d Info unter www.karwendelmarsch.info .
LOCATION:DAS KRONTHALER
URL:https://www.daskronthaler.com/de/service/eventkalender/detail.date.27
 1-55275.2026-08-29.html
END:VEVENT
END:VCALENDAR
