BEGIN:VCALENDAR
CALSCALE:GREGORIAN
PRODID:-//Condeon, vioma GmbH//iCal 2.0//EN
VERSION:2.0
BEGIN:VEVENT
UID:22018268869e921ecbd87e8.47791490
DTSTAMP:20260422T193052Z
DTSTART:20261230T230000Z
DTEND:20261231T225959Z
SUMMARY:Silvester im DAS KRONTHALER
DESCRIPTION:Stilvoller Jahresausklang zwischen Berg & See: mit einem gedi
 egenen Gourmet.Dinner\, Live-Band an der Bar ZeitLOS 989 und modernem DJ
 -Sound in der Skybar BAR HimmelNAH 999. Feuerwerk & Donauwalzer zum Jahr
 eswechsel.
LOCATION:DAS KRONTHALER
URL:https://www.daskronthaler.com/de/achensee-hotel-achenkirch/erlebnisse
 /detail.date.271-55281.2026-12-31.html
END:VEVENT
END:VCALENDAR
