BEGIN:VCALENDAR
CALSCALE:GREGORIAN
PRODID:-//Condeon, vioma GmbH//iCal 2.0//EN
VERSION:2.0
BEGIN:VEVENT
UID:5155887469e92190391043.77852390
DTSTAMP:20260422T192920Z
DTSTART:20261223T230000Z
DTEND:20261224T225959Z
SUMMARY:Weihnachten im DAS KRONTHALER
DESCRIPTION:Besinnlich. Genussvoll. Unvergesslich.\n\nMit festlichem Empf
 ang am großen Schristbaunm\, Weihnachtsdinner und stimmungsvollen Liede
 rn an der BAR ZeitLOS 989. 
LOCATION:DAS KRONTHALER
URL:https://www.daskronthaler.com/de/achensee-hotel-achenkirch/erlebnisse
 /detail.date.271-55279.2026-12-24.html
END:VEVENT
END:VCALENDAR
