BEGIN:VCALENDAR
CALSCALE:GREGORIAN
PRODID:-//Condeon, vioma GmbH//iCal 2.0//EN
VERSION:2.0
BEGIN:VEVENT
UID:190915815269e92133eed0b5.18742387
DTSTAMP:20260422T192747Z
DTSTART:20260905T220000Z
DTEND:20260906T210000Z
SUMMARY:Achenseelauf
DESCRIPTION:Türkisblaues Wasser vor spektakulärer Bergkulisse: Der inte
 rnationale Achneseelauf zählt zu Recht zu den schönsten Laufevents Ös
 terreichs. Am 06. September 2026 lädt euch der schon zur Tradition gewo
 rdene Lauf ein\, die Region rund um den See im Eilschritt zu erkunden. 2
 3 Kilometer gilt es beim Achenseelauf zu bewältigen - das ist länger a
 ls ein Halbmarathon. \n\n\n\nWeitere Infos unter www.achensee.com.
LOCATION:DAS KRONTHALER
URL:https://www.daskronthaler.com/de/achensee-hotel-achenkirch/erlebnisse
 /detail.date.271-55277.2026-09-06.html
END:VEVENT
END:VCALENDAR
